
BEGIN:VCALENDAR
VERSION:2.0
PRODID:-//David-Brenkus - ECPv4.6.20//NONSGML v1.0//EN
CALSCALE:GREGORIAN
METHOD:PUBLISH
X-WR-CALNAME:David-Brenkus
X-ORIGINAL-URL:https://david-brenkus.com
X-WR-CALDESC:Events for David-Brenkus
BEGIN:VEVENT
DTSTART;TZID=Europe/Paris:19911204T180000
DTEND;TZID=Europe/Paris:19920104T180000
DTSTAMP:20260421T120421
CREATED:20180217T005455Z
LAST-MODIFIED:20180220T222721Z
UID:580-691869600-694548000@david-brenkus.com
SUMMARY:1991/12/04 EXHIBITION - Galerie Antoine Candeau (Paris)
DESCRIPTION:This was my first exhibition. It was a group exhibition with 2 other artists\, but I had an entire room – enough space to mount the whole 21 series – 21 16×20″ photos. The exhibition ran for a month. \n
URL:https://david-brenkus.com/event/event-1/
LOCATION:3\, Passage Saint Sebastien\, Paris\, 75011\, France
END:VEVENT
END:VCALENDAR